BEGIN:VCALENDAR
VERSION:2.0
PRODID:-//wp-events-plugin.com//7.2.3.1//EN
TZID:America/Chicago
X-WR-TIMEZONE:America/Chicago
BEGIN:VEVENT
UID:596@aad20.org
DTSTART;TZID=America/Chicago:20150725T100000
DTEND;TZID=America/Chicago:20150725T143000
DTSTAMP:20150615T005359Z
URL:https://aad20.org/events/mo-d13-skips-12-step-seminar/
SUMMARY:MO D13 - SKIP'S 12 STEP SEMINAR
DESCRIPTION:To view a printable PDF file click here
LOCATION:First Christian Church\, 400 Lincoln Street\, La Belle\, Missouri\
 , 63447\, United States
GEO:40.1181516;-91.9132745
X-APPLE-STRUCTURED-LOCATION;VALUE=URI;X-ADDRESS=400 Lincoln Street\, La Bel
 le\, Missouri\, 63447\, United States;X-APPLE-RADIUS=100;X-TITLE=First Chr
 istian Church:geo:40.1181516,-91.9132745
END:VEVENT
BEGIN:VTIMEZONE
TZID:America/Chicago
X-LIC-LOCATION:America/Chicago
BEGIN:DAYLIGHT
DTSTART:20150308T030000
TZOFFSETFROM:-0600
TZOFFSETTO:-0500
TZNAME:CDT
END:DAYLIGHT
END:VTIMEZONE
END:VCALENDAR