BEGIN:VCALENDAR
VERSION:2.0
PRODID:-//wp-events-plugin.com//7.2.3.1//EN
TZID:America/Chicago
X-WR-TIMEZONE:America/Chicago
BEGIN:VEVENT
UID:598@aad20.org
DTSTART;TZID=America/Chicago:20150816T113000
DTEND;TZID=America/Chicago:20150816T153000
DTSTAMP:20150615T013606Z
URL:https://aad20.org/events/mo-d13-shelbina-lake-picnic/
SUMMARY:MO D13 - SHELBINA RED CARPET PICNIC
DESCRIPTION:To view a printable PDF file click here
LOCATION:Shelbina Lake\, 5364 Golf Course Drive\, Shelbina\, Missouri\, Uni
 ted States
GEO:39.7256927;-92.04118870000002
X-APPLE-STRUCTURED-LOCATION;VALUE=URI;X-ADDRESS=5364 Golf Course Drive\, Sh
 elbina\, Missouri\, United States;X-APPLE-RADIUS=100;X-TITLE=Shelbina Lake
 :geo:39.7256927,-92.04118870000002
END:VEVENT
BEGIN:VTIMEZONE
TZID:America/Chicago
X-LIC-LOCATION:America/Chicago
BEGIN:DAYLIGHT
DTSTART:20150308T030000
TZOFFSETFROM:-0600
TZOFFSETTO:-0500
TZNAME:CDT
END:DAYLIGHT
END:VTIMEZONE
END:VCALENDAR