BEGIN:VCALENDAR
VERSION:2.0
PRODID:-//wp-events-plugin.com//7.2.3.1//EN
TZID:America/Chicago
X-WR-TIMEZONE:America/Chicago
BEGIN:VEVENT
UID:586@aad20.org
DTSTART;TZID=America/Chicago:20150530T150000
DTEND;TZID=America/Chicago:20150530T200000
DTSTAMP:20150428T045157Z
URL:https://aad20.org/events/mo-d13-garbage-can-feed-hannibal-sobriety-gro
 up/
SUMMARY:MO D13 - HANNIBAL SOBRIETY GROUP - GARBAGE CAN FEED
DESCRIPTION:To view a printable PDF file click here
LOCATION:Hannibal Sobriety Group\, 11621 Nw London Gravel Road\, Hannibal\,
  Missouri\, 63401\, United States
GEO:39.6766533;-91.4053025
X-APPLE-STRUCTURED-LOCATION;VALUE=URI;X-ADDRESS=11621 Nw London Gravel Road
 \, Hannibal\, Missouri\, 63401\, United States;X-APPLE-RADIUS=100;X-TITLE=
 Hannibal Sobriety Group:geo:39.6766533,-91.4053025
END:VEVENT
BEGIN:VTIMEZONE
TZID:America/Chicago
X-LIC-LOCATION:America/Chicago
BEGIN:DAYLIGHT
DTSTART:20150308T030000
TZOFFSETFROM:-0600
TZOFFSETTO:-0500
TZNAME:CDT
END:DAYLIGHT
END:VTIMEZONE
END:VCALENDAR