BEGIN:VCALENDAR
VERSION:2.0
PRODID:-//wp-events-plugin.com//7.2.3.1//EN
TZID:America/Chicago
X-WR-TIMEZONE:America/Chicago
BEGIN:VEVENT
UID:599@aad20.org
DTSTART;TZID=America/Chicago:20150828T080000
DTEND;TZID=America/Chicago:20150830T120000
DTSTAMP:20150616T030203Z
URL:https://aad20.org/events/mo-d13-annual-mark-twain-lake-camp-o-rama/
SUMMARY:MO D13 - ANNUAL CAMP O RAMA
DESCRIPTION:To view a printable PDF file click here\n\nDirections: From Ha
 nnibal\, MO\, travel west on highway 36 for 17 miles\, then continue south
  on Route J and head south 10 miles. From Perry\, travel north on Rt. J fo
 r 9 miles.\n\n&nbsp\;
LOCATION:Mark Twain Lake (John Briscoe Group)\, 20642 Hwy J\, Monroe City\,
  Missouri\, United States
GEO:39.5731847;-91.72622899999999
X-APPLE-STRUCTURED-LOCATION;VALUE=URI;X-ADDRESS=20642 Hwy J\, Monroe City\,
  Missouri\, United States;X-APPLE-RADIUS=100;X-TITLE=Mark Twain Lake (John
  Briscoe Group):geo:39.5731847,-91.72622899999999
END:VEVENT
BEGIN:VTIMEZONE
TZID:America/Chicago
X-LIC-LOCATION:America/Chicago
BEGIN:DAYLIGHT
DTSTART:20150308T030000
TZOFFSETFROM:-0600
TZOFFSETTO:-0500
TZNAME:CDT
END:DAYLIGHT
END:VTIMEZONE
END:VCALENDAR