BEGIN:VCALENDAR
VERSION:2.0
PRODID:-//wp-events-plugin.com//7.2.3.1//EN
TZID:America/Chicago
X-WR-TIMEZONE:America/Chicago
BEGIN:VEVENT
UID:589@aad20.org
DTSTART;TZID=America/Chicago:20150613T120000
DTEND;TZID=America/Chicago:20150613T160000
DTSTAMP:20150514T205810Z
URL:https://aad20.org/events/mo-d13-3rd-annual-family-fun-day/
SUMMARY:MO D13 - 3RD ANNUAL FAMILY FUN DAY
DESCRIPTION:To view a printable PDF file click here
LOCATION:Flower City Park\, N Breckenridge Ave\, Palmyra\, Missouri\, 63461
 \, United States
GEO:39.8015902;-91.53478289999998
X-APPLE-STRUCTURED-LOCATION;VALUE=URI;X-ADDRESS=N Breckenridge Ave\, Palmyr
 a\, Missouri\, 63461\, United States;X-APPLE-RADIUS=100;X-TITLE=Flower Cit
 y Park:geo:39.8015902,-91.53478289999998
END:VEVENT
BEGIN:VTIMEZONE
TZID:America/Chicago
X-LIC-LOCATION:America/Chicago
BEGIN:DAYLIGHT
DTSTART:20150308T030000
TZOFFSETFROM:-0600
TZOFFSETTO:-0500
TZNAME:CDT
END:DAYLIGHT
END:VTIMEZONE
END:VCALENDAR