BEGIN:VCALENDAR
VERSION:2.0
PRODID:-//wp-events-plugin.com//7.2.3.1//EN
TZID:America/Chicago
X-WR-TIMEZONE:America/Chicago
BEGIN:VEVENT
UID:581@aad20.org
DTSTART;TZID=America/Chicago:20151023T080000
DTEND;TZID=America/Chicago:20151025T170000
DTSTAMP:20150403T235809Z
URL:https://aad20.org/events/mo-d13-22nd-annual-mississippi-valley-regiona
 l-conference/
SUMMARY:MO D13 - 22ND ANNUAL MISSISSIPPI VALLEY REGIONAL CONFERENCE
DESCRIPTION:To view a printable PDF file click here
LOCATION:Quality Inn & Suites\, 120 Lindsey Drive Hwy 36\, Hannibal\, MO\, 
 63401\, United States
GEO:39.7083789;-91.3584816
X-APPLE-STRUCTURED-LOCATION;VALUE=URI;X-ADDRESS=120 Lindsey Drive Hwy 36\, 
 Hannibal\, MO\, 63401\, United States;X-APPLE-RADIUS=100;X-TITLE=Quality I
 nn & Suites:geo:39.7083789,-91.3584816
END:VEVENT
BEGIN:VTIMEZONE
TZID:America/Chicago
X-LIC-LOCATION:America/Chicago
BEGIN:DAYLIGHT
DTSTART:20150308T030000
TZOFFSETFROM:-0600
TZOFFSETTO:-0500
TZNAME:CDT
END:DAYLIGHT
END:VTIMEZONE
END:VCALENDAR