BEGIN:VCALENDAR
VERSION:2.0
PRODID:-//wp-events-plugin.com//7.2.3.1//EN
TZID:America/Chicago
X-WR-TIMEZONE:America/Chicago
BEGIN:VEVENT
UID:582@aad20.org
DTSTART;TZID=America/Chicago:20150606T183000
DTEND;TZID=America/Chicago:20150607T150000
DTSTAMP:20150404T180927Z
URL:https://aad20.org/events/il-d6-sia-21-summer-assembly/
SUMMARY:IL D6 - SIA 21- SUMMER ASSEMBLY 
DESCRIPTION:To view a printable PDF file click here
LOCATION:Shore Acres Park Clubhouse\, 100 Park Boulevard\, Chillicothe\, IL
 \, 61523\, United States
GEO:40.9034812;-89.49010880000003
X-APPLE-STRUCTURED-LOCATION;VALUE=URI;X-ADDRESS=100 Park Boulevard\, Chilli
 cothe\, IL\, 61523\, United States;X-APPLE-RADIUS=100;X-TITLE=Shore Acres 
 Park Clubhouse:geo:40.9034812,-89.49010880000003
END:VEVENT
BEGIN:VTIMEZONE
TZID:America/Chicago
X-LIC-LOCATION:America/Chicago
BEGIN:DAYLIGHT
DTSTART:20150308T030000
TZOFFSETFROM:-0600
TZOFFSETTO:-0500
TZNAME:CDT
END:DAYLIGHT
END:VTIMEZONE
END:VCALENDAR