BEGIN:VCALENDAR
VERSION:2.0
PRODID:-//wp-events-plugin.com//7.2.3.1//EN
TZID:America/Chicago
X-WR-TIMEZONE:America/Chicago
BEGIN:VEVENT
UID:600@aad20.org
DTSTART;TZID=America/Chicago:20150919T110000
DTEND;TZID=America/Chicago:20150919T150000
DTSTAMP:20150616T030618Z
URL:https://aad20.org/events/il-d6-36th-annual-aa-womens-luncheon/
SUMMARY:IL D6 - 36TH ANNUAL AA WOMEN'S LUNCHEON
DESCRIPTION:To view a printable PDF file click here
LOCATION:Ravina On The Lakes\, 5326 W Charter Oak Road\, Peoria\, IL\, 6161
 5\, United States
GEO:40.75254169999999;-89.67828729999997
X-APPLE-STRUCTURED-LOCATION;VALUE=URI;X-ADDRESS=5326 W Charter Oak Road\, P
 eoria\, IL\, 61615\, United States;X-APPLE-RADIUS=100;X-TITLE=Ravina On Th
 e Lakes:geo:40.75254169999999,-89.67828729999997
END:VEVENT
BEGIN:VTIMEZONE
TZID:America/Chicago
X-LIC-LOCATION:America/Chicago
BEGIN:DAYLIGHT
DTSTART:20150308T030000
TZOFFSETFROM:-0600
TZOFFSETTO:-0500
TZNAME:CDT
END:DAYLIGHT
END:VTIMEZONE
END:VCALENDAR