BEGIN:VCALENDAR
VERSION:2.0
PRODID:-//wp-events-plugin.com//7.2.3.1//EN
TZID:America/Chicago
X-WR-TIMEZONE:America/Chicago
BEGIN:VEVENT
UID:590@aad20.org
DTSTART;TZID=America/Chicago:20150531T140000
DTEND;TZID=America/Chicago:20150531T170000
DTSTAMP:20150514T222954Z
URL:https://aad20.org/events/il-d6-2nd-alano-valley-picnic/
SUMMARY:IL D6 - 2ND ANNUAL ALANO VALLEY PICNIC
DESCRIPTION:To view a printable PDF file click here
LOCATION:Day Spring Park\, 1424 N Bourland\, Peoria\, Illinois\, 61606\, Un
 ited States
GEO:40.70594699999999;-89.60994299999999
X-APPLE-STRUCTURED-LOCATION;VALUE=URI;X-ADDRESS=1424 N Bourland\, Peoria\, 
 Illinois\, 61606\, United States;X-APPLE-RADIUS=100;X-TITLE=Day Spring Par
 k:geo:40.70594699999999,-89.60994299999999
END:VEVENT
BEGIN:VTIMEZONE
TZID:America/Chicago
X-LIC-LOCATION:America/Chicago
BEGIN:DAYLIGHT
DTSTART:20150308T030000
TZOFFSETFROM:-0600
TZOFFSETTO:-0500
TZNAME:CDT
END:DAYLIGHT
END:VTIMEZONE
END:VCALENDAR