BEGIN:VCALENDAR
VERSION:2.0
PRODID:-//wp-events-plugin.com//7.2.3.1//EN
TZID:America/Chicago
X-WR-TIMEZONE:America/Chicago
BEGIN:VEVENT
UID:594@aad20.org
DTSTART;TZID=America/Chicago:20151205T170000
DTEND;TZID=America/Chicago:20151206T150000
DTSTAMP:20151101T204005Z
URL:https://aad20.org/events/il-d20-sia-21-winter-assembly/
SUMMARY:IL D20 - SIA 21 WINTER ASSEMBLY
DESCRIPTION:To view a printable PDF file click here
LOCATION:Wesley Village\, 1200 E Grant Street\, Macomb\, IL\, 61455\, Unite
 d States
GEO:40.4491634;-90.65457529999998
X-APPLE-STRUCTURED-LOCATION;VALUE=URI;X-ADDRESS=1200 E Grant Street\, Macom
 b\, IL\, 61455\, United States;X-APPLE-RADIUS=100;X-TITLE=Wesley Village:g
 eo:40.4491634,-90.65457529999998
END:VEVENT
BEGIN:VTIMEZONE
TZID:America/Chicago
X-LIC-LOCATION:America/Chicago
BEGIN:STANDARD
DTSTART:20151101T010000
TZOFFSETFROM:-0500
TZOFFSETTO:-0600
TZNAME:CST
END:STANDARD
END:VTIMEZONE
END:VCALENDAR