BEGIN:VCALENDAR
VERSION:2.0
PRODID:-//wp-events-plugin.com//7.2.3.1//EN
TZID:America/Chicago
X-WR-TIMEZONE:America/Chicago
BEGIN:VEVENT
UID:2356@aad20.org
DTSTART;TZID=America/Chicago:20270125T180000
DTEND;TZID=America/Chicago:20270125T200000
DTSTAMP:20231008T144953Z
URL:https://aad20.org/events/il-d20-canton-downtowners-pot-luck-speaker-me
 eting-2027-01-25/
SUMMARY:IL D20 - CANTON DOWNTOWNERS - POT LUCK & SPEAKER MEETING
DESCRIPTION:
LOCATION:Wesley United Methodist Church\, 120 N Ave A\, Canton\, Illinois\,
  61520\, United States
GEO:40.557643;-90.037065
X-APPLE-STRUCTURED-LOCATION;VALUE=URI;X-ADDRESS=120 N Ave A\, Canton\, Illi
 nois\, 61520\, United States;X-APPLE-RADIUS=100;X-TITLE=Wesley United Meth
 odist Church:geo:40.557643,-90.037065
END:VEVENT
BEGIN:VTIMEZONE
TZID:America/Chicago
X-LIC-LOCATION:America/Chicago
BEGIN:STANDARD
DTSTART:20261101T010000
TZOFFSETFROM:-0500
TZOFFSETTO:-0600
TZNAME:CST
END:STANDARD
END:VTIMEZONE
END:VCALENDAR