BEGIN:VCALENDAR
VERSION:2.0
PRODID:-//wp-events-plugin.com//7.2.3.1//EN
TZID:America/Chicago
X-WR-TIMEZONE:America/Chicago
BEGIN:VEVENT
UID:2353@aad20.org
DTSTART;TZID=America/Chicago:20261026T180000
DTEND;TZID=America/Chicago:20261026T200000
DTSTAMP:20231008T144953Z
URL:https://aad20.org/events/il-d20-canton-downtowners-pot-luck-speaker-me
 eting-2026-10-26/
SUMMARY:IL D20 - CANTON DOWNTOWNERS - POT LUCK & SPEAKER MEETING
DESCRIPTION:
LOCATION:Wesley United Methodist Church\, 120 N Ave A\, Canton\, Illinois\,
  61520\, United States
GEO:40.557643;-90.037065
X-APPLE-STRUCTURED-LOCATION;VALUE=URI;X-ADDRESS=120 N Ave A\, Canton\, Illi
 nois\, 61520\, United States;X-APPLE-RADIUS=100;X-TITLE=Wesley United Meth
 odist Church:geo:40.557643,-90.037065
END:VEVENT
BEGIN:VTIMEZONE
TZID:America/Chicago
X-LIC-LOCATION:America/Chicago
BEGIN:DAYLIGHT
DTSTART:20260308T030000
TZOFFSETFROM:-0600
TZOFFSETTO:-0500
TZNAME:CDT
END:DAYLIGHT
END:VTIMEZONE
END:VCALENDAR