BEGIN:VCALENDAR
VERSION:2.0
PRODID:-//wp-events-plugin.com//7.2.3.1//EN
TZID:America/Chicago
X-WR-TIMEZONE:America/Chicago
BEGIN:VEVENT
UID:592@aad20.org
DTSTART;TZID=America/Chicago:20150712T120000
DTEND;TZID=America/Chicago:20150712T170000
DTSTAMP:20150614T210851Z
URL:https://aad20.org/events/il-d20-2nd-annual-fellowship-memorial-picnic/
SUMMARY:IL D20 - 2ND ANNUAL FELLOWSHIP MEMORIAL PICNIC
DESCRIPTION:To view a printable PDF file click here
LOCATION:Dickson Mounds\, 10956 N Dickson Mounds Rd.\, Lewiston\, Illinois\
 , 61542\, United States
GEO:40.35055639999999;-90.115816
X-APPLE-STRUCTURED-LOCATION;VALUE=URI;X-ADDRESS=10956 N Dickson Mounds Rd.\
 , Lewiston\, Illinois\, 61542\, United States;X-APPLE-RADIUS=100;X-TITLE=D
 ickson Mounds:geo:40.35055639999999,-90.115816
END:VEVENT
BEGIN:VTIMEZONE
TZID:America/Chicago
X-LIC-LOCATION:America/Chicago
BEGIN:DAYLIGHT
DTSTART:20150308T030000
TZOFFSETFROM:-0600
TZOFFSETTO:-0500
TZNAME:CDT
END:DAYLIGHT
END:VTIMEZONE
END:VCALENDAR