BEGIN:VCALENDAR
VERSION:2.0
PRODID:-//wp-events-plugin.com//7.2.3.1//EN
TZID:America/Chicago
X-WR-TIMEZONE:America/Chicago
BEGIN:VEVENT
UID:587@aad20.org
DTSTART;TZID=America/Chicago:20150516T090000
DTEND;TZID=America/Chicago:20150516T210000
DTSTAMP:20150509T221656Z
URL:https://aad20.org/events/il-d15-5th-annual-serenity-fellowship-motorcy
 cle-jeep-ride/
SUMMARY:IL D15 - 5TH ANNUAL SERENITY FELLOWSHIP MOTORCYCLE & JEEP RIDE
DESCRIPTION:To view a printable PDF file click here
LOCATION:Club How\, 638 S. Church Street\, Jacksonville\, IL\, 62651\, Unit
 ed States
GEO:39.7278871;-90.23379729999999
X-APPLE-STRUCTURED-LOCATION;VALUE=URI;X-ADDRESS=638 S. Church Street\, Jack
 sonville\, IL\, 62651\, United States;X-APPLE-RADIUS=100;X-TITLE=Club How:
 geo:39.7278871,-90.23379729999999
END:VEVENT
BEGIN:VTIMEZONE
TZID:America/Chicago
X-LIC-LOCATION:America/Chicago
BEGIN:DAYLIGHT
DTSTART:20150308T030000
TZOFFSETFROM:-0600
TZOFFSETTO:-0500
TZNAME:CDT
END:DAYLIGHT
END:VTIMEZONE
END:VCALENDAR