BEGIN:VCALENDAR
VERSION:2.0
PRODID:-//wp-events-plugin.com//7.2.3.1//EN
TZID:America/Chicago
X-WR-TIMEZONE:America/Chicago
BEGIN:VEVENT
UID:584@aad20.org
DTSTART;TZID=America/Chicago:20150828T160000
DTEND;TZID=America/Chicago:20150830T150000
DTSTAMP:20150404T182510Z
URL:https://aad20.org/events/il-d10-42nd-annual-aa-illinois-state-conferen
 ce/
SUMMARY:IL D10 - 42ND ANNUAL AA ILLINOIS STATE CONFERENCE
DESCRIPTION:To view a printable PDF file click here
LOCATION:Marriott Hotel & Conference Center\, 201 Broadway Street\, Normal\
 , IL\, 61761\, United States
GEO:40.50868080000001;-88.9865671
X-APPLE-STRUCTURED-LOCATION;VALUE=URI;X-ADDRESS=201 Broadway Street\, Norma
 l\, IL\, 61761\, United States;X-APPLE-RADIUS=100;X-TITLE=Marriott Hotel &
  Conference Center:geo:40.50868080000001,-88.9865671
END:VEVENT
BEGIN:VTIMEZONE
TZID:America/Chicago
X-LIC-LOCATION:America/Chicago
BEGIN:DAYLIGHT
DTSTART:20150308T030000
TZOFFSETFROM:-0600
TZOFFSETTO:-0500
TZNAME:CDT
END:DAYLIGHT
END:VTIMEZONE
END:VCALENDAR