BEGIN:VCALENDAR
VERSION:2.0
PRODID:-//wp-events-plugin.com//7.2.3.1//EN
TZID:America/Chicago
X-WR-TIMEZONE:America/Chicago
BEGIN:VEVENT
UID:583@aad20.org
DTSTART;TZID=America/Chicago:20150612T150000
DTEND;TZID=America/Chicago:20150614T113000
DTSTAMP:20150404T181809Z
URL:https://aad20.org/events/ia-d13-area-24-spring-conference/
SUMMARY:IA D13 - AREA 24 SPRING CONFERENCE
DESCRIPTION:To view a printable PDF file click here
LOCATION:Clarion Highlander Hotel & Conference Center\, 2525 North Dodge St
 reet\, Iowa City\, IA\, 52245\, United States
GEO:41.688329;-91.49529100000001
X-APPLE-STRUCTURED-LOCATION;VALUE=URI;X-ADDRESS=2525 North Dodge Street\, I
 owa City\, IA\, 52245\, United States;X-APPLE-RADIUS=100;X-TITLE=Clarion H
 ighlander Hotel & Conference Center:geo:41.688329,-91.49529100000001
END:VEVENT
BEGIN:VTIMEZONE
TZID:America/Chicago
X-LIC-LOCATION:America/Chicago
BEGIN:DAYLIGHT
DTSTART:20150308T030000
TZOFFSETFROM:-0600
TZOFFSETTO:-0500
TZNAME:CDT
END:DAYLIGHT
END:VTIMEZONE
END:VCALENDAR