BEGIN:VCALENDAR
VERSION:2.0
PRODID:-//wp-events-plugin.com//7.2.3.1//EN
TZID:America/Chicago
X-WR-TIMEZONE:America/Chicago
BEGIN:VEVENT
UID:1453@aad20.org
DTSTART;TZID=America/Chicago:20260531T100000
DTEND;TZID=America/Chicago:20260531T120000
DTSTAMP:20210526T190316Z
URL:https://aad20.org/events/ia-d10-keokuk-serenity-group-breakfast-speake
 r-mtg-2026-05-31/
SUMMARY:IA D10 - KEOKUK SERENITY GROUP - BREAKFAST & SPEAKER MTG.
DESCRIPTION:To view and/or print an event flier click here
LOCATION:The Talbot Sober Living House\, 810 Timea Street\, Keokuk\, Iowa\,
  52632\, United States
GEO:40.3957201;-91.39043670000001
X-APPLE-STRUCTURED-LOCATION;VALUE=URI;X-ADDRESS=810 Timea Street\, Keokuk\,
  Iowa\, 52632\, United States;X-APPLE-RADIUS=100;X-TITLE=The Talbot Sober 
 Living House:geo:40.3957201,-91.39043670000001
END:VEVENT
BEGIN:VTIMEZONE
TZID:America/Chicago
X-LIC-LOCATION:America/Chicago
BEGIN:DAYLIGHT
DTSTART:20260308T030000
TZOFFSETFROM:-0600
TZOFFSETTO:-0500
TZNAME:CDT
END:DAYLIGHT
END:VTIMEZONE
END:VCALENDAR