BEGIN:VCALENDAR
VERSION:2.0
PRODID:-//wp-events-plugin.com//7.2.3.1//EN
TZID:America/Chicago
X-WR-TIMEZONE:America/Chicago
BEGIN:VEVENT
UID:601@aad20.org
DTSTART;TZID=America/Chicago:20150815T140000
DTEND;TZID=America/Chicago:20150815T223000
DTSTAMP:20150616T080903Z
URL:https://aad20.org/events/ia-d10-36th-annual-fellowship-family-picnic/
SUMMARY:IA D10 - 36TH ANNUAL FELLOWSHIP FAMILY PICNIC
DESCRIPTION:To view a printable PDF file click here\n\nSponsored By: Washin
 gton Caring &amp\; Sharing Group\n\n&nbsp\;
LOCATION:Marr Park\, Hwy 92\, Ainsworth\, Iowa\, 52201\, United States
GEO:41.2891451;-91.54285290000001
X-APPLE-STRUCTURED-LOCATION;VALUE=URI;X-ADDRESS=Hwy 92\, Ainsworth\, Iowa\,
  52201\, United States;X-APPLE-RADIUS=100;X-TITLE=Marr Park:geo:41.2891451
 ,-91.54285290000001
END:VEVENT
BEGIN:VTIMEZONE
TZID:America/Chicago
X-LIC-LOCATION:America/Chicago
BEGIN:DAYLIGHT
DTSTART:20150308T030000
TZOFFSETFROM:-0600
TZOFFSETTO:-0500
TZNAME:CDT
END:DAYLIGHT
END:VTIMEZONE
END:VCALENDAR