BEGIN:VCALENDAR
VERSION:2.0
PRODID:-//wp-events-plugin.com//7.2.3.1//EN
TZID:America/Chicago
X-WR-TIMEZONE:America/Chicago
BEGIN:VEVENT
UID:588@aad20.org
DTSTART;TZID=America/Chicago:20150522T150000
DTEND;TZID=America/Chicago:20150525T210000
DTSTAMP:20150514T205207Z
URL:https://aad20.org/events/ia-d10-34th-annual-second-chance-mc-memorial-
 weekend-campout/
SUMMARY:IA D10 - 34TH ANNUAL SECOND CHANCE MC MEMORIAL WEEKEND CAMPOUT
DESCRIPTION:To view a printable PDF click here
LOCATION:Second Chance MC\, 5094 River Road\, Eldon\, IA\, 52554\, United S
 tates
GEO:40.9139549;-92.25722410000003
X-APPLE-STRUCTURED-LOCATION;VALUE=URI;X-ADDRESS=5094 River Road\, Eldon\, I
 A\, 52554\, United States;X-APPLE-RADIUS=100;X-TITLE=Second Chance MC:geo:
 40.9139549,-92.25722410000003
END:VEVENT
BEGIN:VTIMEZONE
TZID:America/Chicago
X-LIC-LOCATION:America/Chicago
BEGIN:DAYLIGHT
DTSTART:20150308T030000
TZOFFSETFROM:-0600
TZOFFSETTO:-0500
TZNAME:CDT
END:DAYLIGHT
END:VTIMEZONE
END:VCALENDAR