BEGIN:VCALENDAR
VERSION:2.0
PRODID:-//wp-events-plugin.com//7.2.3.1//EN
TZID:America/Chicago
X-WR-TIMEZONE:America/Chicago
BEGIN:VEVENT
UID:585@aad20.org
DTSTART;TZID=America/Chicago:20150502T180000
DTEND;TZID=America/Chicago:20150502T200000
DTSTAMP:20150427T173850Z
URL:https://aad20.org/events/d5-carry-speaker-meeting-cookout-quincy-seren
 ity-club/
SUMMARY:IL D5 - TOGETHER WE CAN & LET US BEGIN - CARRY IN / SPEAKER MEETING
  / COOKOUT
DESCRIPTION:To view a printable PDF file click here
LOCATION:Quincy Serenity Club\, 901 South 8th Street\, Quincy\, IL\, 62301\
 , United States
GEO:39.920839;-91.40300100000002
X-APPLE-STRUCTURED-LOCATION;VALUE=URI;X-ADDRESS=901 South 8th Street\, Quin
 cy\, IL\, 62301\, United States;X-APPLE-RADIUS=100;X-TITLE=Quincy Serenity
  Club:geo:39.920839,-91.40300100000002
END:VEVENT
BEGIN:VTIMEZONE
TZID:America/Chicago
X-LIC-LOCATION:America/Chicago
BEGIN:DAYLIGHT
DTSTART:20150308T030000
TZOFFSETFROM:-0600
TZOFFSETTO:-0500
TZNAME:CDT
END:DAYLIGHT
END:VTIMEZONE
END:VCALENDAR